BEGIN:VCALENDAR
VERSION:2.0
PRODID:-//Feastival - ECPv4.6.15//NONSGML v1.0//EN
CALSCALE:GREGORIAN
METHOD:PUBLISH
X-WR-CALNAME:Feastival
X-ORIGINAL-URL:https://feastival.co.nz
X-WR-CALDESC:Events for Feastival
BEGIN:VEVENT
DTSTART;TZID=UTC+0:20180605T190000
DTEND;TZID=UTC+0:20180605T210000
DTSTAMP:20181218T134626
CREATED:20180510T052320Z
LAST-MODIFIED:20180514T023259Z
UID:349-1528225200-1528232400@feastival.co.nz
SUMMARY:Tofu is your friend - Savory Ideas for Vegans @ The Bach
DESCRIPTION: \nCooking Demonstration – not just for vegans!  Nibble and wine\, $55 -for one person\, $85 for two. \nBook in:  (06) 769 6967 \n  \n
URL:https://feastival.co.nz/event/tofu-is-your-friend-savory-ideas-for-vegans-the-bach/
END:VEVENT
BEGIN:VEVENT
DTSTART;TZID=UTC+0:20180606T170000
DTEND;TZID=UTC+0:20180606T210000
DTSTAMP:20181218T134626
CREATED:20180529T043236Z
LAST-MODIFIED:20180529T044340Z
UID:672-1528304400-1528318800@feastival.co.nz
SUMMARY:Austrian Schnitzel Night at Stony River
DESCRIPTION: \nLive music\, best schnitzel\, German- Austrian and Domestic beers\, friendly service\, bring your friends and family. \nTo book a seat in the Schnitzel bus\, $12pp\, round trip\, New Plymouth – Oakura – Okato\, 5 – 9pm.  Bookings essential: 06 754 6206 \n
URL:https://feastival.co.nz/event/austrian-schnitzel-night-at-stony-river/
LOCATION:2502 South Rd.\, Okato\, 4335\, New Zealand
END:VEVENT
BEGIN:VEVENT
DTSTART;TZID=UTC+0:20180606T170000
DTEND;TZID=UTC+0:20180606T200000
DTSTAMP:20181218T134626
CREATED:20180530T041724Z
LAST-MODIFIED:20180530T041724Z
UID:676-1528304400-1528315200@feastival.co.nz
SUMMARY:Beef Wellington @ Kauri Cottage
DESCRIPTION: \nCome along and try our Feastival special for Wednesday night only. \nBeef Wellington for two\nEye fillet wrapped in chicken and mushroom mouse\, savory pancake and puff pastry. Served with rosemary potatoes\, roasted tomatoes\, seasonal vegetables\, jus\n$85 for 2 people \nCall now and mention this special to secure your table. \n
URL:https://feastival.co.nz/event/beef-wellington-kauri-cottage/
LOCATION:1281 Egmont Road\, Egmont Village\, 4372\, New Zealand
END:VEVENT
BEGIN:VEVENT
DTSTART;TZID=UTC+0:20180606T180000
DTEND;TZID=UTC+0:20180606T200000
DTSTAMP:20181218T134626
CREATED:20180514T022149Z
LAST-MODIFIED:20180529T042642Z
UID:582-1528308000-1528315200@feastival.co.nz
SUMMARY:FEAST for GOOD:  Taranaki Retreat with The Good Home.
DESCRIPTION:A dinner with a difference will be held on Wednesday\, 6th June at 6pm making it convenient to meet up with friends or family straight from work or arrive early and grab a drink at the bar. A 2-course alternate drop menu will follow a selection of breads to start. The cost per person is whatever you think your meal is worth. The Good Home will recoup the cost of the ingredients which means that any profit goes directly to Taranaki Retreat to support their work in suicide prevention. This means the more you pay\, the greater your contribution to The Taranaki Retreat! Come along and enjoy a relaxing evening and hear a few words about the retreat and how the Taranaki community keeps it going. \nBookings are strictly limited so call The Good Home on 06 758 4740. When booking\, please mention if you require a vegetarian meal. \n \n
URL:https://feastival.co.nz/event/feast-and-do-good-for-taranaki-retreat-with-the-good-home/
LOCATION:21 Ariki St.\, New Plymouth\, Taranaki\, 4310\, New Zealand
END:VEVENT
BEGIN:VEVENT
DTSTART;TZID=UTC+0:20180607T173000
DTEND;TZID=UTC+0:20180607T190000
DTSTAMP:20181218T134626
CREATED:20180514T035707Z
LAST-MODIFIED:20180522T045841Z
UID:610-1528392600-1528398000@feastival.co.nz
SUMMARY:FEAST for ALL!
DESCRIPTION:\n\nFEAST for ALL: Come and join our sliding-scale community event. Co-hosted by FEASTival and Founding Sponsor\, See it in the City to benefit our local On The House charity that provides surplus food to our community. rom 5:30 – 7pm in the Huatoki Plaza come eat and pay what you can\, with DJ Kritikl bringing the good vibes all to benefit this fabulous charity.\n\n\n\n\n\nNPDC’s Love Food Hate Waste initiative will also run a pop up cooking demonstration using surplus food and information how you can reduce your household waste. Did you know New Zealanders throw away the equivalent to 213 jumbo jets of food a year? We can help reduce this by supporting causes like On the House or other creative ideas.\n\n\n\n\n\nCome on down and support this great charity and find out more information on how you can help reduce waste. Check out https://lovefoodhatewaste.co.nz/reduce-your-waste/ for further info. \n\n\n\n\n\nA huge thanks to Hello Audrey and the great FEASTival cafes and restaurants for their support!\n\n  \n
URL:https://feastival.co.nz/event/feast-for-all/
LOCATION:18 - 22 Devon Street West\, New Plymouth\, Taranaki\, 4310\, New Zealand
END:VEVENT
BEGIN:VEVENT
DTSTART;TZID=UTC+0:20180607T183000
DTEND;TZID=UTC+0:20180607T210000
DTSTAMP:20181218T134626
CREATED:20180510T053042Z
LAST-MODIFIED:20180510T053042Z
UID:536-1528396200-1528405200@feastival.co.nz
SUMMARY:Degustation dinner @ Nice Hotel featuring Clearview Estate Wine
DESCRIPTION: \nCome and join the amazing food at Table @ The Nice Hotel with wines from Clearview Estate – a true winter FEAST! \n
URL:https://feastival.co.nz/event/degustation-dinner-nice-hotel-featuring-clearview-estate-wine/
LOCATION:71 Brougham Street\, New Plymouth\, 4310\, New Zealand
END:VEVENT
BEGIN:VEVENT
DTSTART;TZID=UTC+0:20180607T190000
DTEND;TZID=UTC+0:20180607T210000
DTSTAMP:20181218T134626
CREATED:20180514T023557Z
LAST-MODIFIED:20180514T023656Z
UID:592-1528398000-1528405200@feastival.co.nz
SUMMARY:Vegalicious Sweets: Sweet Treats for Vegans
DESCRIPTION: \nNot just for Vegans!  Cooking demonstration including nibbles and wine.  $55 for one person\, $85 for two. \nBookings: (06) 769 6967 \n
URL:https://feastival.co.nz/event/vegalicious-sweets-sweet-treats-for-vegans/
END:VEVENT
BEGIN:VEVENT
DTSTART;TZID=UTC+0:20180608T170000
DTEND;TZID=UTC+0:20180608T200000
DTSTAMP:20181218T134626
CREATED:20180530T042027Z
LAST-MODIFIED:20180530T042027Z
UID:682-1528477200-1528488000@feastival.co.nz
SUMMARY:Date Night
DESCRIPTION: \nTake a break from the city\, come and enjoy the large open fire and treat yourselves to our special 3 course date night menu.\n$65 per person for 3 courses including a glass of house wine or beer on arrival. \nCall us today to secure your table \n
URL:https://feastival.co.nz/event/date-night/
LOCATION:1281 Egmont Road\, Egmont Village\, 4372\, New Zealand
END:VEVENT
BEGIN:VEVENT
DTSTART;TZID=UTC+0:20180608T180000
DTEND;TZID=UTC+0:20180608T184500
DTSTAMP:20181218T134626
CREATED:20180516T014208Z
LAST-MODIFIED:20180519T233244Z
UID:640-1528480800-1528483500@feastival.co.nz
SUMMARY:Sake Tasting with Sushi Ninja
DESCRIPTION:Sake Tasting Night with Sushi Ninja:  $25 p.p \nHave you wanted to learn more about sake and try something new?  Or are you already a sake fan and want to taste some premium pours?  This unique event is for you!  Grab some friends and make a night of it. \n\nIntroduction to our premium chilled sakes. \nYou will be able to taste 7 very different varieties. \n$9 a flask- a special discounted price for any of those sakes should you wish to dine in as well. Usually prices vary from $9.50-$12.50 for a 140ml flask \n\nBook: 06-759 1392 \n \n
URL:https://feastival.co.nz/event/sake-tasting-with-sushi-ninja/
LOCATION:89 Devon Street East\, New Plymouth\, Taranaki\, 4310\, New Zealand
END:VEVENT
BEGIN:VEVENT
DTSTART;TZID=UTC+0:20180608T190000
DTEND;TZID=UTC+0:20180608T210000
DTSTAMP:20181218T134626
CREATED:20180514T025213Z
LAST-MODIFIED:20180516T050048Z
UID:596-1528484400-1528491600@feastival.co.nz
SUMMARY:Whisky Tasting @ Peggy Gordons
DESCRIPTION: \nJoin us at Peggy Gordon’s for: \nScotland’s Classic Malts Whisky Tasting with Lions wines and spirit ambassador Calem Chadwick \nWhisky Tasting includes Scottish and New Zealand  tasting  platters \nBookings essential!  06-758 8561 \n
URL:https://feastival.co.nz/event/whisky-tasting-peggy-gordons/
LOCATION:58 Egmont St.\, New Plymouth\, 4310\, New Zealand
END:VEVENT
BEGIN:VEVENT
DTSTART;TZID=UTC+0:20180608T190000
DTEND;TZID=UTC+0:20180608T210000
DTSTAMP:20181218T134626
CREATED:20180604T054602Z
LAST-MODIFIED:20180604T054602Z
UID:697-1528484400-1528491600@feastival.co.nz
SUMMARY:Cin Cin Gin @ Arborio with Juno Gin
DESCRIPTION: \nJoin us for a fun night of gin cocktail tasting and delicious nibbles! \nMeet Juno Gin owners Dave and Jo as they talk about Juno and their BeGin story.  While Terrace Bar manager Dan creates delicious drinks from the boutique Gin. \nAn evening to warm up winter – gather you besties and we’ll see you there!! \nArborio Terrace Bar\nFriday 8 June\n7pm\n$45 – you will not be sent a ticket as your name will be on the guest list at the door \nBook here: http://www.arborio.co.nz/product/cin-cin-gin/ \nOr call: 06 759 1241‎ \n
URL:https://feastival.co.nz/event/cin-cin-gin-arborio-with-juno-gin/
LOCATION:65 St Aubin Street - Puke Ariki\, New Plymouth\, New Zealand
END:VEVENT
BEGIN:VEVENT
DTSTART;TZID=UTC+0:20180609T170000
DTEND;TZID=UTC+0:20180609T200000
DTSTAMP:20181218T134626
CREATED:20180530T042309Z
LAST-MODIFIED:20180530T042309Z
UID:685-1528563600-1528574400@feastival.co.nz
SUMMARY:Ladies Night
DESCRIPTION: \nGather up the girls and enjoy a night out with our 2 course set menu.\nThink Chicken Mignion\, Gnocchi\, Lemon Meringue Pie! \n$45 per person \n
URL:https://feastival.co.nz/event/ladies-night/
LOCATION:1281 Egmont Road\, Egmont Village\, 4372\, New Zealand
END:VEVENT
BEGIN:VEVENT
DTSTART;TZID=UTC+0:20180609T180000
DTEND;TZID=UTC+0:20180609T184500
DTSTAMP:20181218T134626
CREATED:20180516T014343Z
LAST-MODIFIED:20180519T233224Z
UID:643-1528567200-1528569900@feastival.co.nz
SUMMARY:Sake Tasting with Sushi Ninja
DESCRIPTION:Sake Tasting Night with Sushi Ninja:  $25 p.p \nHave you wanted to learn more about sake and try something new?  Or are you already a sake fan and want to taste some premium pours?  This unique event is for you!  Grab some friends and make a night of it. \n\nIntroduction to our premium chilled sakes. \nYou will be able to taste 7 very different varieties. \n$9 a flask- a special discounted price for any of those sakes should you wish to dine in as well. Usually prices vary from $9.50-$12.50 for a 140ml flask \n\nBook:  06-759 1392 \n \n
URL:https://feastival.co.nz/event/sake-tasting-night-with-sushi-ninja/
LOCATION:89 Devon Street East\, New Plymouth\, Taranaki\, 4310\, New Zealand
END:VEVENT
BEGIN:VEVENT
DTSTART;TZID=UTC+0:20180610T113000
DTEND;TZID=UTC+0:20180610T113000
DTSTAMP:20181218T134626
CREATED:20180510T054650Z
LAST-MODIFIED:20180514T015838Z
UID:541-1528630200-1528630200@feastival.co.nz
SUMMARY:Long Glorious Lunch with the West End Precinct
DESCRIPTION: \nLong Glorious Lunch \nSunday 10th June 2018\, Guests from 11.30am \nA long shared lunch from the teams at Snug Lounge\, Ms White\, Meat and Liquor\, Social Kitchen\, Monica’s Eatery\, Public Catering and Frederics in the West End Precinct Courtyard. \n$95.pp including a cocktail on arrival and table wines \n+$3 booking fee \n Bookings to lara@hospotraders.co.nz \n
URL:https://feastival.co.nz/event/long-glorious-lunch-with-the-west-end-precinct/
LOCATION:White Hart\, New Plymouth\, Taranaki\, 4310\, New Zealand
END:VEVENT
END:VCALENDAR